BEGIN:VCALENDAR
VERSION:2.0
PRODID:-//Joseph-Bernhart Gymnasium - ECPv6.15.20//NONSGML v1.0//EN
CALSCALE:GREGORIAN
METHOD:PUBLISH
X-WR-CALNAME:Joseph-Bernhart Gymnasium
X-ORIGINAL-URL:https://gymnasium-tuerkheim.de
X-WR-CALDESC:Veranstaltungen für Joseph-Bernhart Gymnasium
REFRESH-INTERVAL;VALUE=DURATION:PT1H
X-Robots-Tag:noindex
X-PUBLISHED-TTL:PT1H
BEGIN:VTIMEZONE
TZID:Europe/Berlin
BEGIN:DAYLIGHT
TZOFFSETFROM:+0100
TZOFFSETTO:+0200
TZNAME:CEST
DTSTART:20220327T010000
END:DAYLIGHT
BEGIN:STANDARD
TZOFFSETFROM:+0200
TZOFFSETTO:+0100
TZNAME:CET
DTSTART:20221030T010000
END:STANDARD
BEGIN:DAYLIGHT
TZOFFSETFROM:+0100
TZOFFSETTO:+0200
TZNAME:CEST
DTSTART:20230326T010000
END:DAYLIGHT
BEGIN:STANDARD
TZOFFSETFROM:+0200
TZOFFSETTO:+0100
TZNAME:CET
DTSTART:20231029T010000
END:STANDARD
BEGIN:DAYLIGHT
TZOFFSETFROM:+0100
TZOFFSETTO:+0200
TZNAME:CEST
DTSTART:20240331T010000
END:DAYLIGHT
BEGIN:STANDARD
TZOFFSETFROM:+0200
TZOFFSETTO:+0100
TZNAME:CET
DTSTART:20241027T010000
END:STANDARD
END:VTIMEZONE
BEGIN:VEVENT
DTSTART;VALUE=DATE:20230710
DTEND;VALUE=DATE:20230715
DTSTAMP:20260421T113340
CREATED:20230425T093817Z
LAST-MODIFIED:20230505T062959Z
UID:33750-1688947200-1689379199@gymnasium-tuerkheim.de
SUMMARY:Berufspraktikum 9. Jahrgangsstufe
DESCRIPTION:
URL:https://gymnasium-tuerkheim.de/termin/berufspraktikum-9-jahrgangsstufe/
CATEGORIES:Allgemein
ATTACH;FMTTYPE=image/jpeg:https://gymnasium-tuerkheim.de/wp-content/uploads/2019/12/no_image-1.jpg
END:VEVENT
BEGIN:VEVENT
DTSTART;TZID=Europe/Berlin:20230714T140000
DTEND;TZID=Europe/Berlin:20230714T140000
DTSTAMP:20260421T113340
CREATED:20230623T093949Z
LAST-MODIFIED:20230623T093949Z
UID:33900-1689343200-1689343200@gymnasium-tuerkheim.de
SUMMARY:14.00 Uhr: Notenschluss 5. – 11. Jgst.
DESCRIPTION:
URL:https://gymnasium-tuerkheim.de/termin/14-00-uhr-notenschluss-5-11-jgst/
ATTACH;FMTTYPE=image/jpeg:https://gymnasium-tuerkheim.de/wp-content/uploads/2019/12/no_image-1.jpg
END:VEVENT
BEGIN:VEVENT
DTSTART;TZID=Europe/Berlin:20230714T190000
DTEND;TZID=Europe/Berlin:20230715T090000
DTSTAMP:20260421T113340
CREATED:20230628T063208Z
LAST-MODIFIED:20230628T064115Z
UID:33912-1689361200-1689411600@gymnasium-tuerkheim.de
SUMMARY:Lesenacht für Bibliotheks-AG und Team\, Bibliothek (Sci)
DESCRIPTION:
URL:https://gymnasium-tuerkheim.de/termin/lesenacht-fuer-bibliotheks-ag-und-team-bibliothek-sci/
ATTACH;FMTTYPE=image/jpeg:https://gymnasium-tuerkheim.de/wp-content/uploads/2019/12/no_image-1.jpg
END:VEVENT
END:VCALENDAR